BEGIN:VCALENDAR
VERSION:2.0
PRODID:-//Betriebssport - ECPv6.15.20//NONSGML v1.0//EN
CALSCALE:GREGORIAN
METHOD:PUBLISH
X-WR-CALNAME:Betriebssport
X-ORIGINAL-URL:https://turnier.betriebsliga.at
X-WR-CALDESC:Veranstaltungen für Betriebssport
REFRESH-INTERVAL;VALUE=DURATION:PT1H
X-Robots-Tag:noindex
X-PUBLISHED-TTL:PT1H
BEGIN:VTIMEZONE
TZID:Europe/Vienna
BEGIN:DAYLIGHT
TZOFFSETFROM:+0100
TZOFFSETTO:+0200
TZNAME:CEST
DTSTART:20240331T010000
END:DAYLIGHT
BEGIN:STANDARD
TZOFFSETFROM:+0200
TZOFFSETTO:+0100
TZNAME:CET
DTSTART:20241027T010000
END:STANDARD
BEGIN:DAYLIGHT
TZOFFSETFROM:+0100
TZOFFSETTO:+0200
TZNAME:CEST
DTSTART:20250330T010000
END:DAYLIGHT
BEGIN:STANDARD
TZOFFSETFROM:+0200
TZOFFSETTO:+0100
TZNAME:CET
DTSTART:20251026T010000
END:STANDARD
BEGIN:DAYLIGHT
TZOFFSETFROM:+0100
TZOFFSETTO:+0200
TZNAME:CEST
DTSTART:20260329T010000
END:DAYLIGHT
BEGIN:STANDARD
TZOFFSETFROM:+0200
TZOFFSETTO:+0100
TZNAME:CET
DTSTART:20261025T010000
END:STANDARD
END:VTIMEZONE
BEGIN:VEVENT
DTSTART;TZID=Europe/Vienna:20250204T193000
DTEND;TZID=Europe/Vienna:20250204T220000
DTSTAMP:20260425T155717
CREATED:20240811T103759Z
LAST-MODIFIED:20240811T103759Z
UID:10000272-1738697400-1738706400@turnier.betriebsliga.at
SUMMARY:Doppel
DESCRIPTION:
URL:https://turnier.betriebsliga.at/termin/doppel-5/2025-02-04/
LOCATION:Plus Bowling Center Wien\, Beheimgasse 5-7\, Wien\, Wien\, 1170\, Österreich
END:VEVENT
BEGIN:VEVENT
DTSTART;TZID=Europe/Vienna:20250211T193000
DTEND;TZID=Europe/Vienna:20250211T220000
DTSTAMP:20260425T155717
CREATED:20240811T102858Z
LAST-MODIFIED:20240811T102858Z
UID:10000255-1739302200-1739311200@turnier.betriebsliga.at
SUMMARY:4er Gruppe A
DESCRIPTION:
URL:https://turnier.betriebsliga.at/termin/4er-gruppe-a-3/2025-02-11/
LOCATION:Plus Bowling Center Wien\, Beheimgasse 5-7\, Wien\, Wien\, 1170\, Österreich
END:VEVENT
BEGIN:VEVENT
DTSTART;TZID=Europe/Vienna:20250218T193000
DTEND;TZID=Europe/Vienna:20250218T220000
DTSTAMP:20260425T155717
CREATED:20240811T103312Z
LAST-MODIFIED:20240811T103312Z
UID:10000263-1739907000-1739916000@turnier.betriebsliga.at
SUMMARY:4er Gruppe B
DESCRIPTION:
URL:https://turnier.betriebsliga.at/termin/4er-gruppe-b-3/2025-02-18/
LOCATION:Plus Bowling Center Wien\, Beheimgasse 5-7\, Wien\, Wien\, 1170\, Österreich
END:VEVENT
BEGIN:VEVENT
DTSTART;TZID=Europe/Vienna:20250225T193000
DTEND;TZID=Europe/Vienna:20250225T220000
DTSTAMP:20260425T155717
CREATED:20240811T103759Z
LAST-MODIFIED:20240811T103759Z
UID:10000273-1740511800-1740520800@turnier.betriebsliga.at
SUMMARY:Doppel
DESCRIPTION:
URL:https://turnier.betriebsliga.at/termin/doppel-5/2025-02-25/
LOCATION:Plus Bowling Center Wien\, Beheimgasse 5-7\, Wien\, Wien\, 1170\, Österreich
END:VEVENT
END:VCALENDAR