BEGIN:VCALENDAR
VERSION:2.0
PRODID:-//Betriebssport - ECPv6.15.20//NONSGML v1.0//EN
CALSCALE:GREGORIAN
METHOD:PUBLISH
X-ORIGINAL-URL:https://turnier.betriebsliga.at
X-WR-CALDESC:Veranstaltungen für Betriebssport
REFRESH-INTERVAL;VALUE=DURATION:PT1H
X-Robots-Tag:noindex
X-PUBLISHED-TTL:PT1H
BEGIN:VTIMEZONE
TZID:Europe/Vienna
BEGIN:DAYLIGHT
TZOFFSETFROM:+0100
TZOFFSETTO:+0200
TZNAME:CEST
DTSTART:20240331T010000
END:DAYLIGHT
BEGIN:STANDARD
TZOFFSETFROM:+0200
TZOFFSETTO:+0100
TZNAME:CET
DTSTART:20241027T010000
END:STANDARD
BEGIN:DAYLIGHT
TZOFFSETFROM:+0100
TZOFFSETTO:+0200
TZNAME:CEST
DTSTART:20250330T010000
END:DAYLIGHT
BEGIN:STANDARD
TZOFFSETFROM:+0200
TZOFFSETTO:+0100
TZNAME:CET
DTSTART:20251026T010000
END:STANDARD
BEGIN:DAYLIGHT
TZOFFSETFROM:+0100
TZOFFSETTO:+0200
TZNAME:CEST
DTSTART:20260329T010000
END:DAYLIGHT
BEGIN:STANDARD
TZOFFSETFROM:+0200
TZOFFSETTO:+0100
TZNAME:CET
DTSTART:20261025T010000
END:STANDARD
END:VTIMEZONE
BEGIN:VEVENT
DTSTART;TZID=Europe/Vienna:20250909T190000
DTEND;TZID=Europe/Vienna:20250909T220000
DTSTAMP:20260425T050021
CREATED:20250816T112803Z
LAST-MODIFIED:20250816T112803Z
UID:10000279-1757444400-1757455200@turnier.betriebsliga.at
SUMMARY:4er Gruppe A
DESCRIPTION:
URL:https://turnier.betriebsliga.at/termin/4er-gruppe-a-4/2025-09-09/
LOCATION:Plus Bowling Center Wien\, Beheimgasse 5-7\, Wien\, Wien\, 1170\, Österreich
END:VEVENT
BEGIN:VEVENT
DTSTART;TZID=Europe/Vienna:20250916T190000
DTEND;TZID=Europe/Vienna:20250916T220000
DTSTAMP:20260425T050021
CREATED:20250816T113032Z
LAST-MODIFIED:20250816T113032Z
UID:10000287-1758049200-1758060000@turnier.betriebsliga.at
SUMMARY:4er Gruppe B
DESCRIPTION:
URL:https://turnier.betriebsliga.at/termin/4er-gruppe-b-4/2025-09-16/
LOCATION:Plus Bowling Center Wien\, Beheimgasse 5-7\, Wien\, Wien\, 1170\, Österreich
END:VEVENT
BEGIN:VEVENT
DTSTART;TZID=Europe/Vienna:20250923T190000
DTEND;TZID=Europe/Vienna:20250923T220000
DTSTAMP:20260425T050021
CREATED:20250816T113311Z
LAST-MODIFIED:20250816T113311Z
UID:10000295-1758654000-1758664800@turnier.betriebsliga.at
SUMMARY:Doppel
DESCRIPTION:
URL:https://turnier.betriebsliga.at/termin/doppel-6/2025-09-23/
LOCATION:Plus Bowling Center Wien\, Beheimgasse 5-7\, Wien\, Wien\, 1170\, Österreich
END:VEVENT
BEGIN:VEVENT
DTSTART;TZID=Europe/Vienna:20250930T190000
DTEND;TZID=Europe/Vienna:20250930T220000
DTSTAMP:20260425T050021
CREATED:20250816T112803Z
LAST-MODIFIED:20250816T112803Z
UID:10000280-1759258800-1759269600@turnier.betriebsliga.at
SUMMARY:4er Gruppe A
DESCRIPTION:
URL:https://turnier.betriebsliga.at/termin/4er-gruppe-a-4/2025-09-30/
LOCATION:Plus Bowling Center Wien\, Beheimgasse 5-7\, Wien\, Wien\, 1170\, Österreich
END:VEVENT
END:VCALENDAR