BEGIN:VCALENDAR
VERSION:2.0
PRODID:-//Betriebssport - ECPv6.15.20//NONSGML v1.0//EN
CALSCALE:GREGORIAN
METHOD:PUBLISH
X-WR-CALNAME:Betriebssport
X-ORIGINAL-URL:https://turnier.betriebsliga.at
X-WR-CALDESC:Veranstaltungen für Betriebssport
REFRESH-INTERVAL;VALUE=DURATION:PT1H
X-Robots-Tag:noindex
X-PUBLISHED-TTL:PT1H
BEGIN:VTIMEZONE
TZID:Europe/Vienna
BEGIN:DAYLIGHT
TZOFFSETFROM:+0100
TZOFFSETTO:+0200
TZNAME:CEST
DTSTART:20240331T010000
END:DAYLIGHT
BEGIN:STANDARD
TZOFFSETFROM:+0200
TZOFFSETTO:+0100
TZNAME:CET
DTSTART:20241027T010000
END:STANDARD
BEGIN:DAYLIGHT
TZOFFSETFROM:+0100
TZOFFSETTO:+0200
TZNAME:CEST
DTSTART:20250330T010000
END:DAYLIGHT
BEGIN:STANDARD
TZOFFSETFROM:+0200
TZOFFSETTO:+0100
TZNAME:CET
DTSTART:20251026T010000
END:STANDARD
BEGIN:DAYLIGHT
TZOFFSETFROM:+0100
TZOFFSETTO:+0200
TZNAME:CEST
DTSTART:20260329T010000
END:DAYLIGHT
BEGIN:STANDARD
TZOFFSETFROM:+0200
TZOFFSETTO:+0100
TZNAME:CET
DTSTART:20261025T010000
END:STANDARD
END:VTIMEZONE
BEGIN:VEVENT
DTSTART;TZID=Europe/Vienna:20251202T190000
DTEND;TZID=Europe/Vienna:20251202T220000
DTSTAMP:20260425T001552
CREATED:20250816T113311Z
LAST-MODIFIED:20250816T113311Z
UID:10000297-1764702000-1764712800@turnier.betriebsliga.at
SUMMARY:Doppel
DESCRIPTION:
URL:https://turnier.betriebsliga.at/termin/doppel-6/2025-12-02/
LOCATION:Plus Bowling Center Wien\, Beheimgasse 5-7\, Wien\, Wien\, 1170\, Österreich
END:VEVENT
BEGIN:VEVENT
DTSTART;TZID=Europe/Vienna:20251216T190000
DTEND;TZID=Europe/Vienna:20251216T220000
DTSTAMP:20260425T001552
CREATED:20250816T113311Z
LAST-MODIFIED:20250816T113311Z
UID:10000298-1765911600-1765922400@turnier.betriebsliga.at
SUMMARY:Doppel
DESCRIPTION:
URL:https://turnier.betriebsliga.at/termin/doppel-6/2025-12-16/
LOCATION:Plus Bowling Center Wien\, Beheimgasse 5-7\, Wien\, Wien\, 1170\, Österreich
END:VEVENT
END:VCALENDAR