BEGIN:VCALENDAR
VERSION:2.0
PRODID:-//Betriebssport - ECPv6.15.20//NONSGML v1.0//EN
CALSCALE:GREGORIAN
METHOD:PUBLISH
X-WR-CALNAME:Betriebssport
X-ORIGINAL-URL:https://turnier.betriebsliga.at
X-WR-CALDESC:Veranstaltungen für Betriebssport
REFRESH-INTERVAL;VALUE=DURATION:PT1H
X-Robots-Tag:noindex
X-PUBLISHED-TTL:PT1H
BEGIN:VTIMEZONE
TZID:Europe/Vienna
BEGIN:DAYLIGHT
TZOFFSETFROM:+0100
TZOFFSETTO:+0200
TZNAME:CEST
DTSTART:20190331T010000
END:DAYLIGHT
BEGIN:STANDARD
TZOFFSETFROM:+0200
TZOFFSETTO:+0100
TZNAME:CET
DTSTART:20191027T010000
END:STANDARD
BEGIN:DAYLIGHT
TZOFFSETFROM:+0100
TZOFFSETTO:+0200
TZNAME:CEST
DTSTART:20200329T010000
END:DAYLIGHT
BEGIN:STANDARD
TZOFFSETFROM:+0200
TZOFFSETTO:+0100
TZNAME:CET
DTSTART:20201025T010000
END:STANDARD
BEGIN:DAYLIGHT
TZOFFSETFROM:+0100
TZOFFSETTO:+0200
TZNAME:CEST
DTSTART:20210328T010000
END:DAYLIGHT
BEGIN:STANDARD
TZOFFSETFROM:+0200
TZOFFSETTO:+0100
TZNAME:CET
DTSTART:20211031T010000
END:STANDARD
END:VTIMEZONE
BEGIN:VEVENT
DTSTART;TZID=Europe/Vienna:20201020T193000
DTEND;TZID=Europe/Vienna:20201020T230000
DTSTAMP:20260426T005204
CREATED:20200925T083950Z
LAST-MODIFIED:20200925T083950Z
UID:10000134-1603222200-1603234800@turnier.betriebsliga.at
SUMMARY:4er Gruppe A
DESCRIPTION:
URL:https://turnier.betriebsliga.at/termin/4er-gruppe-a/2020-10-20/
LOCATION:Plus Bowling Center Wien\, Beheimgasse 5-7\, Wien\, Wien\, 1170\, Österreich
END:VEVENT
BEGIN:VEVENT
DTSTART;TZID=Europe/Vienna:20201013T193000
DTEND;TZID=Europe/Vienna:20201013T230000
DTSTAMP:20260426T005204
CREATED:20200925T083811Z
LAST-MODIFIED:20200925T083811Z
UID:10000139-1602617400-1602630000@turnier.betriebsliga.at
SUMMARY:Mixed-Doppel
DESCRIPTION:
URL:https://turnier.betriebsliga.at/termin/mixed-doppel/2020-10-13/
LOCATION:Plus Bowling Center Wien\, Beheimgasse 5-7\, Wien\, Wien\, 1170\, Österreich
END:VEVENT
END:VCALENDAR