BEGIN:VCALENDAR
VERSION:2.0
PRODID:-//Betriebssport - ECPv6.15.20//NONSGML v1.0//EN
CALSCALE:GREGORIAN
METHOD:PUBLISH
X-WR-CALNAME:Betriebssport
X-ORIGINAL-URL:https://turnier.betriebsliga.at
X-WR-CALDESC:Veranstaltungen für Betriebssport
REFRESH-INTERVAL;VALUE=DURATION:PT1H
X-Robots-Tag:noindex
X-PUBLISHED-TTL:PT1H
BEGIN:VTIMEZONE
TZID:Europe/Vienna
BEGIN:DAYLIGHT
TZOFFSETFROM:+0100
TZOFFSETTO:+0200
TZNAME:CEST
DTSTART:20230326T010000
END:DAYLIGHT
BEGIN:STANDARD
TZOFFSETFROM:+0200
TZOFFSETTO:+0100
TZNAME:CET
DTSTART:20231029T010000
END:STANDARD
BEGIN:DAYLIGHT
TZOFFSETFROM:+0100
TZOFFSETTO:+0200
TZNAME:CEST
DTSTART:20240331T010000
END:DAYLIGHT
BEGIN:STANDARD
TZOFFSETFROM:+0200
TZOFFSETTO:+0100
TZNAME:CET
DTSTART:20241027T010000
END:STANDARD
BEGIN:DAYLIGHT
TZOFFSETFROM:+0100
TZOFFSETTO:+0200
TZNAME:CEST
DTSTART:20250330T010000
END:DAYLIGHT
BEGIN:STANDARD
TZOFFSETFROM:+0200
TZOFFSETTO:+0100
TZNAME:CET
DTSTART:20251026T010000
END:STANDARD
BEGIN:DAYLIGHT
TZOFFSETFROM:+0100
TZOFFSETTO:+0200
TZNAME:CEST
DTSTART:20260329T010000
END:DAYLIGHT
BEGIN:STANDARD
TZOFFSETFROM:+0200
TZOFFSETTO:+0100
TZNAME:CET
DTSTART:20261025T010000
END:STANDARD
END:VTIMEZONE
BEGIN:VEVENT
DTSTART;TZID=Europe/Vienna:20250916T190000
DTEND;TZID=Europe/Vienna:20250916T220000
DTSTAMP:20260425T003040
CREATED:20250816T113032Z
LAST-MODIFIED:20250816T113032Z
UID:10000287-1758049200-1758060000@turnier.betriebsliga.at
SUMMARY:4er Gruppe B
DESCRIPTION:
URL:https://turnier.betriebsliga.at/termin/4er-gruppe-b-4/2025-09-16/
LOCATION:Plus Bowling Center Wien\, Beheimgasse 5-7\, Wien\, Wien\, 1170\, Österreich
END:VEVENT
BEGIN:VEVENT
DTSTART;TZID=Europe/Vienna:20250909T190000
DTEND;TZID=Europe/Vienna:20250909T220000
DTSTAMP:20260425T003040
CREATED:20250816T112803Z
LAST-MODIFIED:20250816T112803Z
UID:10000279-1757444400-1757455200@turnier.betriebsliga.at
SUMMARY:4er Gruppe A
DESCRIPTION:
URL:https://turnier.betriebsliga.at/termin/4er-gruppe-a-4/2025-09-09/
LOCATION:Plus Bowling Center Wien\, Beheimgasse 5-7\, Wien\, Wien\, 1170\, Österreich
END:VEVENT
BEGIN:VEVENT
DTSTART;TZID=Europe/Vienna:20250506T193000
DTEND;TZID=Europe/Vienna:20250506T220000
DTSTAMP:20260425T003040
CREATED:20240811T103759Z
LAST-MODIFIED:20240811T103759Z
UID:10000275-1746559800-1746568800@turnier.betriebsliga.at
SUMMARY:Doppel
DESCRIPTION:
URL:https://turnier.betriebsliga.at/termin/doppel-5/2025-05-06/
LOCATION:Plus Bowling Center Wien\, Beheimgasse 5-7\, Wien\, Wien\, 1170\, Österreich
END:VEVENT
BEGIN:VEVENT
DTSTART;TZID=Europe/Vienna:20250408T193000
DTEND;TZID=Europe/Vienna:20250408T220000
DTSTAMP:20260425T003040
CREATED:20240811T103312Z
LAST-MODIFIED:20240811T103312Z
UID:10000265-1744140600-1744149600@turnier.betriebsliga.at
SUMMARY:4er Gruppe B
DESCRIPTION:
URL:https://turnier.betriebsliga.at/termin/4er-gruppe-b-3/2025-04-08/
LOCATION:Plus Bowling Center Wien\, Beheimgasse 5-7\, Wien\, Wien\, 1170\, Österreich
END:VEVENT
BEGIN:VEVENT
DTSTART;TZID=Europe/Vienna:20250401T193000
DTEND;TZID=Europe/Vienna:20250401T220000
DTSTAMP:20260425T003040
CREATED:20240811T102858Z
LAST-MODIFIED:20240811T102858Z
UID:10000257-1743535800-1743544800@turnier.betriebsliga.at
SUMMARY:4er Gruppe A
DESCRIPTION:
URL:https://turnier.betriebsliga.at/termin/4er-gruppe-a-3/2025-04-01/
LOCATION:Plus Bowling Center Wien\, Beheimgasse 5-7\, Wien\, Wien\, 1170\, Österreich
END:VEVENT
BEGIN:VEVENT
DTSTART;TZID=Europe/Vienna:20250325T193000
DTEND;TZID=Europe/Vienna:20250325T220000
DTSTAMP:20260425T003040
CREATED:20240811T103759Z
LAST-MODIFIED:20240811T103759Z
UID:10000274-1742931000-1742940000@turnier.betriebsliga.at
SUMMARY:Doppel
DESCRIPTION:
URL:https://turnier.betriebsliga.at/termin/doppel-5/2025-03-25/
LOCATION:Plus Bowling Center Wien\, Beheimgasse 5-7\, Wien\, Wien\, 1170\, Österreich
END:VEVENT
BEGIN:VEVENT
DTSTART;TZID=Europe/Vienna:20250318T193000
DTEND;TZID=Europe/Vienna:20250318T220000
DTSTAMP:20260425T003040
CREATED:20240811T103312Z
LAST-MODIFIED:20240811T103312Z
UID:10000264-1742326200-1742335200@turnier.betriebsliga.at
SUMMARY:4er Gruppe B
DESCRIPTION:
URL:https://turnier.betriebsliga.at/termin/4er-gruppe-b-3/2025-03-18/
LOCATION:Plus Bowling Center Wien\, Beheimgasse 5-7\, Wien\, Wien\, 1170\, Österreich
END:VEVENT
BEGIN:VEVENT
DTSTART;TZID=Europe/Vienna:20250304T193000
DTEND;TZID=Europe/Vienna:20250304T220000
DTSTAMP:20260425T003040
CREATED:20240811T102858Z
LAST-MODIFIED:20240811T102858Z
UID:10000256-1741116600-1741125600@turnier.betriebsliga.at
SUMMARY:4er Gruppe A
DESCRIPTION:
URL:https://turnier.betriebsliga.at/termin/4er-gruppe-a-3/2025-03-04/
LOCATION:Plus Bowling Center Wien\, Beheimgasse 5-7\, Wien\, Wien\, 1170\, Österreich
END:VEVENT
BEGIN:VEVENT
DTSTART;TZID=Europe/Vienna:20250225T193000
DTEND;TZID=Europe/Vienna:20250225T220000
DTSTAMP:20260425T003040
CREATED:20240811T103759Z
LAST-MODIFIED:20240811T103759Z
UID:10000273-1740511800-1740520800@turnier.betriebsliga.at
SUMMARY:Doppel
DESCRIPTION:
URL:https://turnier.betriebsliga.at/termin/doppel-5/2025-02-25/
LOCATION:Plus Bowling Center Wien\, Beheimgasse 5-7\, Wien\, Wien\, 1170\, Österreich
END:VEVENT
BEGIN:VEVENT
DTSTART;TZID=Europe/Vienna:20250218T193000
DTEND;TZID=Europe/Vienna:20250218T220000
DTSTAMP:20260425T003040
CREATED:20240811T103312Z
LAST-MODIFIED:20240811T103312Z
UID:10000263-1739907000-1739916000@turnier.betriebsliga.at
SUMMARY:4er Gruppe B
DESCRIPTION:
URL:https://turnier.betriebsliga.at/termin/4er-gruppe-b-3/2025-02-18/
LOCATION:Plus Bowling Center Wien\, Beheimgasse 5-7\, Wien\, Wien\, 1170\, Österreich
END:VEVENT
BEGIN:VEVENT
DTSTART;TZID=Europe/Vienna:20250211T193000
DTEND;TZID=Europe/Vienna:20250211T220000
DTSTAMP:20260425T003040
CREATED:20240811T102858Z
LAST-MODIFIED:20240811T102858Z
UID:10000255-1739302200-1739311200@turnier.betriebsliga.at
SUMMARY:4er Gruppe A
DESCRIPTION:
URL:https://turnier.betriebsliga.at/termin/4er-gruppe-a-3/2025-02-11/
LOCATION:Plus Bowling Center Wien\, Beheimgasse 5-7\, Wien\, Wien\, 1170\, Österreich
END:VEVENT
BEGIN:VEVENT
DTSTART;TZID=Europe/Vienna:20250204T193000
DTEND;TZID=Europe/Vienna:20250204T220000
DTSTAMP:20260425T003040
CREATED:20240811T103759Z
LAST-MODIFIED:20240811T103759Z
UID:10000272-1738697400-1738706400@turnier.betriebsliga.at
SUMMARY:Doppel
DESCRIPTION:
URL:https://turnier.betriebsliga.at/termin/doppel-5/2025-02-04/
LOCATION:Plus Bowling Center Wien\, Beheimgasse 5-7\, Wien\, Wien\, 1170\, Österreich
END:VEVENT
BEGIN:VEVENT
DTSTART;TZID=Europe/Vienna:20250128T193000
DTEND;TZID=Europe/Vienna:20250128T220000
DTSTAMP:20260425T003040
CREATED:20240811T103759Z
LAST-MODIFIED:20240811T103759Z
UID:10000271-1738092600-1738101600@turnier.betriebsliga.at
SUMMARY:Doppel
DESCRIPTION:
URL:https://turnier.betriebsliga.at/termin/doppel-5/2025-01-28/
LOCATION:Plus Bowling Center Wien\, Beheimgasse 5-7\, Wien\, Wien\, 1170\, Österreich
END:VEVENT
BEGIN:VEVENT
DTSTART;TZID=Europe/Vienna:20250121T193000
DTEND;TZID=Europe/Vienna:20250121T220000
DTSTAMP:20260425T003040
CREATED:20240811T103312Z
LAST-MODIFIED:20240811T103312Z
UID:10000262-1737487800-1737496800@turnier.betriebsliga.at
SUMMARY:4er Gruppe B
DESCRIPTION:
URL:https://turnier.betriebsliga.at/termin/4er-gruppe-b-3/2025-01-21/
LOCATION:Plus Bowling Center Wien\, Beheimgasse 5-7\, Wien\, Wien\, 1170\, Österreich
END:VEVENT
BEGIN:VEVENT
DTSTART;TZID=Europe/Vienna:20250114T193000
DTEND;TZID=Europe/Vienna:20250114T220000
DTSTAMP:20260425T003040
CREATED:20240811T102858Z
LAST-MODIFIED:20240811T102858Z
UID:10000254-1736883000-1736892000@turnier.betriebsliga.at
SUMMARY:4er Gruppe A
DESCRIPTION:
URL:https://turnier.betriebsliga.at/termin/4er-gruppe-a-3/2025-01-14/
LOCATION:Plus Bowling Center Wien\, Beheimgasse 5-7\, Wien\, Wien\, 1170\, Österreich
END:VEVENT
BEGIN:VEVENT
DTSTART;TZID=Europe/Vienna:20250107T193000
DTEND;TZID=Europe/Vienna:20250107T220000
DTSTAMP:20260425T003040
CREATED:20240811T103759Z
LAST-MODIFIED:20240811T103759Z
UID:10000270-1736278200-1736287200@turnier.betriebsliga.at
SUMMARY:Doppel
DESCRIPTION:
URL:https://turnier.betriebsliga.at/termin/doppel-5/2025-01-07/
LOCATION:Plus Bowling Center Wien\, Beheimgasse 5-7\, Wien\, Wien\, 1170\, Österreich
END:VEVENT
BEGIN:VEVENT
DTSTART;TZID=Europe/Vienna:20241203T193000
DTEND;TZID=Europe/Vienna:20241203T220000
DTSTAMP:20260425T003040
CREATED:20240811T103759Z
LAST-MODIFIED:20240811T103759Z
UID:10000269-1733254200-1733263200@turnier.betriebsliga.at
SUMMARY:Doppel
DESCRIPTION:
URL:https://turnier.betriebsliga.at/termin/doppel-5/2024-12-03/
LOCATION:Plus Bowling Center Wien\, Beheimgasse 5-7\, Wien\, Wien\, 1170\, Österreich
END:VEVENT
BEGIN:VEVENT
DTSTART;TZID=Europe/Vienna:20241126T193000
DTEND;TZID=Europe/Vienna:20241126T220000
DTSTAMP:20260425T003040
CREATED:20240811T103312Z
LAST-MODIFIED:20240811T103312Z
UID:10000261-1732649400-1732658400@turnier.betriebsliga.at
SUMMARY:4er Gruppe B
DESCRIPTION:
URL:https://turnier.betriebsliga.at/termin/4er-gruppe-b-3/2024-11-26/
LOCATION:Plus Bowling Center Wien\, Beheimgasse 5-7\, Wien\, Wien\, 1170\, Österreich
END:VEVENT
BEGIN:VEVENT
DTSTART;TZID=Europe/Vienna:20241119T193000
DTEND;TZID=Europe/Vienna:20241119T220000
DTSTAMP:20260425T003040
CREATED:20240811T103759Z
LAST-MODIFIED:20240811T103759Z
UID:10000268-1732044600-1732053600@turnier.betriebsliga.at
SUMMARY:Doppel
DESCRIPTION:
URL:https://turnier.betriebsliga.at/termin/doppel-5/2024-11-19/
LOCATION:Plus Bowling Center Wien\, Beheimgasse 5-7\, Wien\, Wien\, 1170\, Österreich
END:VEVENT
BEGIN:VEVENT
DTSTART;TZID=Europe/Vienna:20241112T193000
DTEND;TZID=Europe/Vienna:20241112T220000
DTSTAMP:20260425T003041
CREATED:20240811T102858Z
LAST-MODIFIED:20240811T102858Z
UID:10000253-1731439800-1731448800@turnier.betriebsliga.at
SUMMARY:4er Gruppe A
DESCRIPTION:
URL:https://turnier.betriebsliga.at/termin/4er-gruppe-a-3/2024-11-12/
LOCATION:Plus Bowling Center Wien\, Beheimgasse 5-7\, Wien\, Wien\, 1170\, Österreich
END:VEVENT
BEGIN:VEVENT
DTSTART;TZID=Europe/Vienna:20241105T193000
DTEND;TZID=Europe/Vienna:20241105T220000
DTSTAMP:20260425T003041
CREATED:20240811T103759Z
LAST-MODIFIED:20240811T103759Z
UID:10000267-1730835000-1730844000@turnier.betriebsliga.at
SUMMARY:Doppel
DESCRIPTION:
URL:https://turnier.betriebsliga.at/termin/doppel-5/2024-11-05/
LOCATION:Plus Bowling Center Wien\, Beheimgasse 5-7\, Wien\, Wien\, 1170\, Österreich
END:VEVENT
BEGIN:VEVENT
DTSTART;TZID=Europe/Vienna:20241029T193000
DTEND;TZID=Europe/Vienna:20241029T220000
DTSTAMP:20260425T003041
CREATED:20240811T103312Z
LAST-MODIFIED:20240811T103312Z
UID:10000260-1730230200-1730239200@turnier.betriebsliga.at
SUMMARY:4er Gruppe B
DESCRIPTION:
URL:https://turnier.betriebsliga.at/termin/4er-gruppe-b-3/2024-10-29/
LOCATION:Plus Bowling Center Wien\, Beheimgasse 5-7\, Wien\, Wien\, 1170\, Österreich
END:VEVENT
BEGIN:VEVENT
DTSTART;TZID=Europe/Vienna:20241022T193000
DTEND;TZID=Europe/Vienna:20241022T220000
DTSTAMP:20260425T003041
CREATED:20240811T102858Z
LAST-MODIFIED:20240811T102858Z
UID:10000252-1729625400-1729634400@turnier.betriebsliga.at
SUMMARY:4er Gruppe A
DESCRIPTION:
URL:https://turnier.betriebsliga.at/termin/4er-gruppe-a-3/2024-10-22/
LOCATION:Plus Bowling Center Wien\, Beheimgasse 5-7\, Wien\, Wien\, 1170\, Österreich
END:VEVENT
BEGIN:VEVENT
DTSTART;TZID=Europe/Vienna:20241008T193000
DTEND;TZID=Europe/Vienna:20241008T220000
DTSTAMP:20260425T003041
CREATED:20240811T103312Z
LAST-MODIFIED:20240811T103312Z
UID:10000259-1728415800-1728424800@turnier.betriebsliga.at
SUMMARY:4er Gruppe B
DESCRIPTION:
URL:https://turnier.betriebsliga.at/termin/4er-gruppe-b-3/2024-10-08/
LOCATION:Plus Bowling Center Wien\, Beheimgasse 5-7\, Wien\, Wien\, 1170\, Österreich
END:VEVENT
BEGIN:VEVENT
DTSTART;TZID=Europe/Vienna:20241001T193000
DTEND;TZID=Europe/Vienna:20241001T220000
DTSTAMP:20260425T003041
CREATED:20240811T102858Z
LAST-MODIFIED:20240811T102858Z
UID:10000251-1727811000-1727820000@turnier.betriebsliga.at
SUMMARY:4er Gruppe A
DESCRIPTION:
URL:https://turnier.betriebsliga.at/termin/4er-gruppe-a-3/2024-10-01/
LOCATION:Plus Bowling Center Wien\, Beheimgasse 5-7\, Wien\, Wien\, 1170\, Österreich
END:VEVENT
BEGIN:VEVENT
DTSTART;TZID=Europe/Vienna:20240924T193000
DTEND;TZID=Europe/Vienna:20240924T220000
DTSTAMP:20260425T003041
CREATED:20240811T103759Z
LAST-MODIFIED:20240811T103759Z
UID:10000266-1727206200-1727215200@turnier.betriebsliga.at
SUMMARY:Doppel
DESCRIPTION:
URL:https://turnier.betriebsliga.at/termin/doppel-5/2024-09-24/
LOCATION:Plus Bowling Center Wien\, Beheimgasse 5-7\, Wien\, Wien\, 1170\, Österreich
END:VEVENT
BEGIN:VEVENT
DTSTART;TZID=Europe/Vienna:20240917T193000
DTEND;TZID=Europe/Vienna:20240917T220000
DTSTAMP:20260425T003041
CREATED:20240811T103312Z
LAST-MODIFIED:20240811T103312Z
UID:10000258-1726601400-1726610400@turnier.betriebsliga.at
SUMMARY:4er Gruppe B
DESCRIPTION:
URL:https://turnier.betriebsliga.at/termin/4er-gruppe-b-3/2024-09-17/
LOCATION:Plus Bowling Center Wien\, Beheimgasse 5-7\, Wien\, Wien\, 1170\, Österreich
END:VEVENT
BEGIN:VEVENT
DTSTART;TZID=Europe/Vienna:20240910T193000
DTEND;TZID=Europe/Vienna:20240910T220000
DTSTAMP:20260425T003041
CREATED:20240811T102858Z
LAST-MODIFIED:20240811T102858Z
UID:10000250-1725996600-1726005600@turnier.betriebsliga.at
SUMMARY:4er Gruppe A
DESCRIPTION:
URL:https://turnier.betriebsliga.at/termin/4er-gruppe-a-3/2024-09-10/
LOCATION:Plus Bowling Center Wien\, Beheimgasse 5-7\, Wien\, Wien\, 1170\, Österreich
END:VEVENT
BEGIN:VEVENT
DTSTART;VALUE=DATE:20240430
DTEND;VALUE=DATE:20240502
DTSTAMP:20260425T003041
CREATED:20230826T161009Z
LAST-MODIFIED:20230826T161009Z
UID:10000187-1714449600-1714535999@turnier.betriebsliga.at
SUMMARY:Doppel
DESCRIPTION:
URL:https://turnier.betriebsliga.at/termin/doppel-4/2024-04-30/
LOCATION:Plus Bowling Center Wien\, Beheimgasse 5-7\, Wien\, Wien\, 1170\, Österreich
END:VEVENT
BEGIN:VEVENT
DTSTART;VALUE=DATE:20240423
DTEND;VALUE=DATE:20240425
DTSTAMP:20260425T003041
CREATED:20230826T160819Z
LAST-MODIFIED:20230826T160819Z
UID:10000248-1713844800-1713931199@turnier.betriebsliga.at
SUMMARY:Gruppe B
DESCRIPTION:
URL:https://turnier.betriebsliga.at/termin/gruppe-b-2/2024-04-23/
LOCATION:Plus Bowling Center Wien\, Beheimgasse 5-7\, Wien\, Wien\, 1170\, Österreich
END:VEVENT
END:VCALENDAR