BEGIN:VCALENDAR
VERSION:2.0
PRODID:-//Betriebssport - ECPv6.15.20//NONSGML v1.0//EN
CALSCALE:GREGORIAN
METHOD:PUBLISH
X-WR-CALNAME:Betriebssport
X-ORIGINAL-URL:https://turnier.betriebsliga.at
X-WR-CALDESC:Veranstaltungen für Betriebssport
REFRESH-INTERVAL;VALUE=DURATION:PT1H
X-Robots-Tag:noindex
X-PUBLISHED-TTL:PT1H
BEGIN:VTIMEZONE
TZID:Europe/Vienna
BEGIN:DAYLIGHT
TZOFFSETFROM:+0100
TZOFFSETTO:+0200
TZNAME:CEST
DTSTART:20220327T010000
END:DAYLIGHT
BEGIN:STANDARD
TZOFFSETFROM:+0200
TZOFFSETTO:+0100
TZNAME:CET
DTSTART:20221030T010000
END:STANDARD
BEGIN:DAYLIGHT
TZOFFSETFROM:+0100
TZOFFSETTO:+0200
TZNAME:CEST
DTSTART:20230326T010000
END:DAYLIGHT
BEGIN:STANDARD
TZOFFSETFROM:+0200
TZOFFSETTO:+0100
TZNAME:CET
DTSTART:20231029T010000
END:STANDARD
BEGIN:DAYLIGHT
TZOFFSETFROM:+0100
TZOFFSETTO:+0200
TZNAME:CEST
DTSTART:20240331T010000
END:DAYLIGHT
BEGIN:STANDARD
TZOFFSETFROM:+0200
TZOFFSETTO:+0100
TZNAME:CET
DTSTART:20241027T010000
END:STANDARD
BEGIN:DAYLIGHT
TZOFFSETFROM:+0100
TZOFFSETTO:+0200
TZNAME:CEST
DTSTART:20250330T010000
END:DAYLIGHT
BEGIN:STANDARD
TZOFFSETFROM:+0200
TZOFFSETTO:+0100
TZNAME:CET
DTSTART:20251026T010000
END:STANDARD
END:VTIMEZONE
BEGIN:VEVENT
DTSTART;VALUE=DATE:20240416
DTEND;VALUE=DATE:20240418
DTSTAMP:20260425T052212
CREATED:20230826T160636Z
LAST-MODIFIED:20230826T160636Z
UID:10000240-1713240000-1713326399@turnier.betriebsliga.at
SUMMARY:Gruppe A
DESCRIPTION:
URL:https://turnier.betriebsliga.at/termin/gruppe-a-2/2024-04-16/
LOCATION:Plus Bowling Center Wien\, Beheimgasse 5-7\, Wien\, Wien\, 1170\, Österreich
END:VEVENT
BEGIN:VEVENT
DTSTART;VALUE=DATE:20240326
DTEND;VALUE=DATE:20240328
DTSTAMP:20260425T052212
CREATED:20230826T161009Z
LAST-MODIFIED:20230826T161009Z
UID:10000186-1711425600-1711511999@turnier.betriebsliga.at
SUMMARY:Doppel
DESCRIPTION:
URL:https://turnier.betriebsliga.at/termin/doppel-4/2024-03-26/
LOCATION:Plus Bowling Center Wien\, Beheimgasse 5-7\, Wien\, Wien\, 1170\, Österreich
END:VEVENT
BEGIN:VEVENT
DTSTART;VALUE=DATE:20240319
DTEND;VALUE=DATE:20240321
DTSTAMP:20260425T052212
CREATED:20230826T160819Z
LAST-MODIFIED:20230826T160819Z
UID:10000247-1710820800-1710907199@turnier.betriebsliga.at
SUMMARY:Gruppe B
DESCRIPTION:
URL:https://turnier.betriebsliga.at/termin/gruppe-b-2/2024-03-19/
LOCATION:Plus Bowling Center Wien\, Beheimgasse 5-7\, Wien\, Wien\, 1170\, Österreich
END:VEVENT
BEGIN:VEVENT
DTSTART;VALUE=DATE:20240312
DTEND;VALUE=DATE:20240314
DTSTAMP:20260425T052212
CREATED:20230826T160636Z
LAST-MODIFIED:20230826T160636Z
UID:10000239-1710216000-1710302399@turnier.betriebsliga.at
SUMMARY:Gruppe A
DESCRIPTION:
URL:https://turnier.betriebsliga.at/termin/gruppe-a-2/2024-03-12/
LOCATION:Plus Bowling Center Wien\, Beheimgasse 5-7\, Wien\, Wien\, 1170\, Österreich
END:VEVENT
BEGIN:VEVENT
DTSTART;VALUE=DATE:20240305
DTEND;VALUE=DATE:20240307
DTSTAMP:20260425T052212
CREATED:20230826T161009Z
LAST-MODIFIED:20230826T161009Z
UID:10000185-1709611200-1709697599@turnier.betriebsliga.at
SUMMARY:Doppel
DESCRIPTION:
URL:https://turnier.betriebsliga.at/termin/doppel-4/2024-03-05/
LOCATION:Plus Bowling Center Wien\, Beheimgasse 5-7\, Wien\, Wien\, 1170\, Österreich
END:VEVENT
BEGIN:VEVENT
DTSTART;VALUE=DATE:20240220
DTEND;VALUE=DATE:20240222
DTSTAMP:20260425T052212
CREATED:20230826T160819Z
LAST-MODIFIED:20230826T160819Z
UID:10000246-1708401600-1708487999@turnier.betriebsliga.at
SUMMARY:Gruppe B
DESCRIPTION:
URL:https://turnier.betriebsliga.at/termin/gruppe-b-2/2024-02-20/
LOCATION:Plus Bowling Center Wien\, Beheimgasse 5-7\, Wien\, Wien\, 1170\, Österreich
END:VEVENT
BEGIN:VEVENT
DTSTART;VALUE=DATE:20240213
DTEND;VALUE=DATE:20240215
DTSTAMP:20260425T052212
CREATED:20230826T160636Z
LAST-MODIFIED:20230826T160636Z
UID:10000238-1707796800-1707883199@turnier.betriebsliga.at
SUMMARY:Gruppe A
DESCRIPTION:
URL:https://turnier.betriebsliga.at/termin/gruppe-a-2/2024-02-13/
LOCATION:Plus Bowling Center Wien\, Beheimgasse 5-7\, Wien\, Wien\, 1170\, Österreich
END:VEVENT
BEGIN:VEVENT
DTSTART;VALUE=DATE:20240206
DTEND;VALUE=DATE:20240208
DTSTAMP:20260425T052212
CREATED:20230826T161009Z
LAST-MODIFIED:20230826T161009Z
UID:10000184-1707192000-1707278399@turnier.betriebsliga.at
SUMMARY:Doppel
DESCRIPTION:
URL:https://turnier.betriebsliga.at/termin/doppel-4/2024-02-06/
LOCATION:Plus Bowling Center Wien\, Beheimgasse 5-7\, Wien\, Wien\, 1170\, Österreich
END:VEVENT
BEGIN:VEVENT
DTSTART;VALUE=DATE:20240130
DTEND;VALUE=DATE:20240201
DTSTAMP:20260425T052212
CREATED:20230826T161009Z
LAST-MODIFIED:20230826T161009Z
UID:10000183-1706587200-1706673599@turnier.betriebsliga.at
SUMMARY:Doppel
DESCRIPTION:
URL:https://turnier.betriebsliga.at/termin/doppel-4/2024-01-30/
LOCATION:Plus Bowling Center Wien\, Beheimgasse 5-7\, Wien\, Wien\, 1170\, Österreich
END:VEVENT
BEGIN:VEVENT
DTSTART;VALUE=DATE:20240123
DTEND;VALUE=DATE:20240125
DTSTAMP:20260425T052213
CREATED:20230826T160819Z
LAST-MODIFIED:20230826T160819Z
UID:10000245-1705982400-1706068799@turnier.betriebsliga.at
SUMMARY:Gruppe B
DESCRIPTION:
URL:https://turnier.betriebsliga.at/termin/gruppe-b-2/2024-01-23/
LOCATION:Plus Bowling Center Wien\, Beheimgasse 5-7\, Wien\, Wien\, 1170\, Österreich
END:VEVENT
BEGIN:VEVENT
DTSTART;VALUE=DATE:20240116
DTEND;VALUE=DATE:20240118
DTSTAMP:20260425T052213
CREATED:20230826T160636Z
LAST-MODIFIED:20230826T160636Z
UID:10000237-1705377600-1705463999@turnier.betriebsliga.at
SUMMARY:Gruppe A
DESCRIPTION:
URL:https://turnier.betriebsliga.at/termin/gruppe-a-2/2024-01-16/
LOCATION:Plus Bowling Center Wien\, Beheimgasse 5-7\, Wien\, Wien\, 1170\, Österreich
END:VEVENT
BEGIN:VEVENT
DTSTART;VALUE=DATE:20240109
DTEND;VALUE=DATE:20240111
DTSTAMP:20260425T052213
CREATED:20230826T161009Z
LAST-MODIFIED:20230826T161009Z
UID:10000182-1704772800-1704859199@turnier.betriebsliga.at
SUMMARY:Doppel
DESCRIPTION:
URL:https://turnier.betriebsliga.at/termin/doppel-4/2024-01-09/
LOCATION:Plus Bowling Center Wien\, Beheimgasse 5-7\, Wien\, Wien\, 1170\, Österreich
END:VEVENT
BEGIN:VEVENT
DTSTART;VALUE=DATE:20231128
DTEND;VALUE=DATE:20231130
DTSTAMP:20260425T052213
CREATED:20230826T160819Z
LAST-MODIFIED:20230826T160819Z
UID:10000244-1701144000-1701230399@turnier.betriebsliga.at
SUMMARY:Gruppe B
DESCRIPTION:
URL:https://turnier.betriebsliga.at/termin/gruppe-b-2/2023-11-28/
LOCATION:Plus Bowling Center Wien\, Beheimgasse 5-7\, Wien\, Wien\, 1170\, Österreich
END:VEVENT
BEGIN:VEVENT
DTSTART;VALUE=DATE:20231121
DTEND;VALUE=DATE:20231123
DTSTAMP:20260425T052213
CREATED:20230826T160636Z
LAST-MODIFIED:20230826T160636Z
UID:10000236-1700539200-1700625599@turnier.betriebsliga.at
SUMMARY:Gruppe A
DESCRIPTION:
URL:https://turnier.betriebsliga.at/termin/gruppe-a-2/2023-11-21/
LOCATION:Plus Bowling Center Wien\, Beheimgasse 5-7\, Wien\, Wien\, 1170\, Österreich
END:VEVENT
BEGIN:VEVENT
DTSTART;VALUE=DATE:20231114
DTEND;VALUE=DATE:20231116
DTSTAMP:20260425T052213
CREATED:20230826T161009Z
LAST-MODIFIED:20230826T161009Z
UID:10000181-1699934400-1700020799@turnier.betriebsliga.at
SUMMARY:Doppel
DESCRIPTION:
URL:https://turnier.betriebsliga.at/termin/doppel-4/2023-11-14/
LOCATION:Plus Bowling Center Wien\, Beheimgasse 5-7\, Wien\, Wien\, 1170\, Österreich
END:VEVENT
BEGIN:VEVENT
DTSTART;VALUE=DATE:20231107
DTEND;VALUE=DATE:20231109
DTSTAMP:20260425T052213
CREATED:20230826T160819Z
LAST-MODIFIED:20230826T160819Z
UID:10000243-1699329600-1699415999@turnier.betriebsliga.at
SUMMARY:Gruppe B
DESCRIPTION:
URL:https://turnier.betriebsliga.at/termin/gruppe-b-2/2023-11-07/
LOCATION:Plus Bowling Center Wien\, Beheimgasse 5-7\, Wien\, Wien\, 1170\, Österreich
END:VEVENT
BEGIN:VEVENT
DTSTART;VALUE=DATE:20231024
DTEND;VALUE=DATE:20231026
DTSTAMP:20260425T052213
CREATED:20230826T160636Z
LAST-MODIFIED:20230826T160636Z
UID:10000235-1698120000-1698206399@turnier.betriebsliga.at
SUMMARY:Gruppe A
DESCRIPTION:
URL:https://turnier.betriebsliga.at/termin/gruppe-a-2/2023-10-24/
LOCATION:Plus Bowling Center Wien\, Beheimgasse 5-7\, Wien\, Wien\, 1170\, Österreich
END:VEVENT
BEGIN:VEVENT
DTSTART;VALUE=DATE:20231017
DTEND;VALUE=DATE:20231019
DTSTAMP:20260425T052213
CREATED:20230826T161009Z
LAST-MODIFIED:20230826T161009Z
UID:10000180-1697515200-1697601599@turnier.betriebsliga.at
SUMMARY:Doppel
DESCRIPTION:
URL:https://turnier.betriebsliga.at/termin/doppel-4/2023-10-17/
LOCATION:Plus Bowling Center Wien\, Beheimgasse 5-7\, Wien\, Wien\, 1170\, Österreich
END:VEVENT
BEGIN:VEVENT
DTSTART;VALUE=DATE:20231010
DTEND;VALUE=DATE:20231012
DTSTAMP:20260425T052213
CREATED:20230826T160819Z
LAST-MODIFIED:20230826T160819Z
UID:10000242-1696910400-1696996799@turnier.betriebsliga.at
SUMMARY:Gruppe B
DESCRIPTION:
URL:https://turnier.betriebsliga.at/termin/gruppe-b-2/2023-10-10/
LOCATION:Plus Bowling Center Wien\, Beheimgasse 5-7\, Wien\, Wien\, 1170\, Österreich
END:VEVENT
BEGIN:VEVENT
DTSTART;VALUE=DATE:20231003
DTEND;VALUE=DATE:20231005
DTSTAMP:20260425T052213
CREATED:20230826T160636Z
LAST-MODIFIED:20230826T160636Z
UID:10000234-1696305600-1696391999@turnier.betriebsliga.at
SUMMARY:Gruppe A
DESCRIPTION:
URL:https://turnier.betriebsliga.at/termin/gruppe-a-2/2023-10-03/
LOCATION:Plus Bowling Center Wien\, Beheimgasse 5-7\, Wien\, Wien\, 1170\, Österreich
END:VEVENT
BEGIN:VEVENT
DTSTART;VALUE=DATE:20230926
DTEND;VALUE=DATE:20230928
DTSTAMP:20260425T052213
CREATED:20230826T161009Z
LAST-MODIFIED:20230826T161009Z
UID:10000179-1695700800-1695787199@turnier.betriebsliga.at
SUMMARY:Doppel
DESCRIPTION:
URL:https://turnier.betriebsliga.at/termin/doppel-4/2023-09-26/
LOCATION:Plus Bowling Center Wien\, Beheimgasse 5-7\, Wien\, Wien\, 1170\, Österreich
END:VEVENT
BEGIN:VEVENT
DTSTART;VALUE=DATE:20230919
DTEND;VALUE=DATE:20230921
DTSTAMP:20260425T052213
CREATED:20230826T160819Z
LAST-MODIFIED:20230826T160819Z
UID:10000241-1695096000-1695182399@turnier.betriebsliga.at
SUMMARY:Gruppe B
DESCRIPTION:
URL:https://turnier.betriebsliga.at/termin/gruppe-b-2/2023-09-19/
LOCATION:Plus Bowling Center Wien\, Beheimgasse 5-7\, Wien\, Wien\, 1170\, Österreich
END:VEVENT
BEGIN:VEVENT
DTSTART;VALUE=DATE:20230912
DTEND;VALUE=DATE:20230914
DTSTAMP:20260425T052213
CREATED:20230826T160636Z
LAST-MODIFIED:20230826T160636Z
UID:10000233-1694491200-1694577599@turnier.betriebsliga.at
SUMMARY:Gruppe A
DESCRIPTION:
URL:https://turnier.betriebsliga.at/termin/gruppe-a-2/2023-09-12/
LOCATION:Plus Bowling Center Wien\, Beheimgasse 5-7\, Wien\, Wien\, 1170\, Österreich
END:VEVENT
BEGIN:VEVENT
DTSTART;VALUE=DATE:20230905
DTEND;VALUE=DATE:20230907
DTSTAMP:20260425T052213
CREATED:20230826T161009Z
LAST-MODIFIED:20230826T161009Z
UID:10000178-1693886400-1693972799@turnier.betriebsliga.at
SUMMARY:Doppel
DESCRIPTION:
URL:https://turnier.betriebsliga.at/termin/doppel-4/2023-09-05/
LOCATION:Plus Bowling Center Wien\, Beheimgasse 5-7\, Wien\, Wien\, 1170\, Österreich
END:VEVENT
BEGIN:VEVENT
DTSTART;VALUE=DATE:20230517
DTEND;VALUE=DATE:20230522
DTSTAMP:20260425T052213
CREATED:20221012T171301Z
LAST-MODIFIED:20221012T171301Z
UID:10000188-1684296000-1684641599@turnier.betriebsliga.at
SUMMARY:51. BEC Wien
DESCRIPTION:
URL:https://turnier.betriebsliga.at/termin/51-bec-wien/
LOCATION:Plus Bowling Center Wien\, Beheimgasse 5-7\, Wien\, Wien\, 1170\, Österreich
END:VEVENT
BEGIN:VEVENT
DTSTART;TZID=Europe/Vienna:20230509T193000
DTEND;TZID=Europe/Vienna:20230509T220000
DTSTAMP:20260425T052213
CREATED:20221012T170916Z
LAST-MODIFIED:20221012T171118Z
UID:10000200-1683660600-1683669600@turnier.betriebsliga.at
SUMMARY:Gruppe B
DESCRIPTION:
URL:https://turnier.betriebsliga.at/termin/gruppe-b/2023-05-09/
LOCATION:Plus Bowling Center Wien\, Beheimgasse 5-7\, Wien\, Wien\, 1170\, Österreich
END:VEVENT
BEGIN:VEVENT
DTSTART;TZID=Europe/Vienna:20230502T193000
DTEND;TZID=Europe/Vienna:20230502T220000
DTSTAMP:20260425T052213
CREATED:20221012T171024Z
LAST-MODIFIED:20221024T133605Z
UID:10000194-1683055800-1683064800@turnier.betriebsliga.at
SUMMARY:Doppel
DESCRIPTION:
URL:https://turnier.betriebsliga.at/termin/doppel-3/2023-05-02/
LOCATION:Plus Bowling Center Wien\, Beheimgasse 5-7\, Wien\, Wien\, 1170\, Österreich
END:VEVENT
BEGIN:VEVENT
DTSTART;TZID=Europe/Vienna:20230425T193000
DTEND;TZID=Europe/Vienna:20230425T220000
DTSTAMP:20260425T052213
CREATED:20221012T170756Z
LAST-MODIFIED:20221012T170756Z
UID:10000206-1682451000-1682460000@turnier.betriebsliga.at
SUMMARY:Gruppe A
DESCRIPTION:
URL:https://turnier.betriebsliga.at/termin/gruppe-a/2023-04-25/
LOCATION:Plus Bowling Center Wien\, Beheimgasse 5-7\, Wien\, Wien\, 1170\, Österreich
END:VEVENT
BEGIN:VEVENT
DTSTART;TZID=Europe/Vienna:20230328T193000
DTEND;TZID=Europe/Vienna:20230328T220000
DTSTAMP:20260425T052213
CREATED:20221012T171024Z
LAST-MODIFIED:20221024T133605Z
UID:10000193-1680031800-1680040800@turnier.betriebsliga.at
SUMMARY:Doppel
DESCRIPTION:
URL:https://turnier.betriebsliga.at/termin/doppel-3/2023-03-28/
LOCATION:Plus Bowling Center Wien\, Beheimgasse 5-7\, Wien\, Wien\, 1170\, Österreich
END:VEVENT
BEGIN:VEVENT
DTSTART;TZID=Europe/Vienna:20230321T193000
DTEND;TZID=Europe/Vienna:20230321T220000
DTSTAMP:20260425T052213
CREATED:20221012T170916Z
LAST-MODIFIED:20221012T171118Z
UID:10000199-1679427000-1679436000@turnier.betriebsliga.at
SUMMARY:Gruppe B
DESCRIPTION:
URL:https://turnier.betriebsliga.at/termin/gruppe-b/2023-03-21/
LOCATION:Plus Bowling Center Wien\, Beheimgasse 5-7\, Wien\, Wien\, 1170\, Österreich
END:VEVENT
END:VCALENDAR